BEGIN:VCALENDAR
VERSION:2.0
PRODID:-//Grunsber - ECPv6.15.20//NONSGML v1.0//EN
CALSCALE:GREGORIAN
METHOD:PUBLISH
X-ORIGINAL-URL:https://www.grunsber.org
X-WR-CALDESC:Eventos para Grunsber
REFRESH-INTERVAL;VALUE=DURATION:PT1H
X-Robots-Tag:noindex
X-PUBLISHED-TTL:PT1H
BEGIN:VTIMEZONE
TZID:Europe/Madrid
BEGIN:DAYLIGHT
TZOFFSETFROM:+0100
TZOFFSETTO:+0200
TZNAME:CEST
DTSTART:20250330T010000
END:DAYLIGHT
BEGIN:STANDARD
TZOFFSETFROM:+0200
TZOFFSETTO:+0100
TZNAME:CET
DTSTART:20251026T010000
END:STANDARD
BEGIN:DAYLIGHT
TZOFFSETFROM:+0100
TZOFFSETTO:+0200
TZNAME:CEST
DTSTART:20260329T010000
END:DAYLIGHT
BEGIN:STANDARD
TZOFFSETFROM:+0200
TZOFFSETTO:+0100
TZNAME:CET
DTSTART:20261025T010000
END:STANDARD
BEGIN:DAYLIGHT
TZOFFSETFROM:+0100
TZOFFSETTO:+0200
TZNAME:CEST
DTSTART:20270328T010000
END:DAYLIGHT
BEGIN:STANDARD
TZOFFSETFROM:+0200
TZOFFSETTO:+0100
TZNAME:CET
DTSTART:20271031T010000
END:STANDARD
END:VTIMEZONE
BEGIN:VEVENT
DTSTART;TZID=Europe/Madrid:20260419T080000
DTEND;TZID=Europe/Madrid:20260419T170000
DTSTAMP:20260422T124247
CREATED:20260410T153445Z
LAST-MODIFIED:20260410T153622Z
UID:5546-1776585600-1776618000@www.grunsber.org
SUMMARY:Excursión por el sendero Garganta de las Palas (Gaucín)
DESCRIPTION:RUTA: Sendero Garganta de las Palas (Gaucín)\nDISTANCIA: 11 km\nDIFICULTAD: moderada\nFECHA: Domingo\, 19 de abril de 2026\nLUGAR DE ENCUENTRO: Bar Estadio (Estepona) · 8:00\nAPORTACIÓN: 5 € socios / 8 € no socios
URL:https://www.grunsber.org/evento/excursion-senderos-garganta-palas-gaucin/
LOCATION:Bar Estadio\, Pl. San Fernando\, 8\, Estepona\, Málaga\, 29680\, Spain
CATEGORIES:Excursiones
ATTACH;FMTTYPE=image/jpeg:https://www.grunsber.org/wp-content/uploads/2026/04/20250419-senderos-de-las-palas.jpg
END:VEVENT
END:VCALENDAR